BEGIN:VCALENDAR
VERSION:2.0
PRODID:-// - ECPv4.5.13//NONSGML v1.0//EN
CALSCALE:GREGORIAN
METHOD:PUBLISH
X-WR-CALNAME:
X-ORIGINAL-URL:https://krbm.ru
X-WR-CALDESC:Events for 
BEGIN:VEVENT
DTSTART;TZID=Europe/Simferopol:20230613T100000
DTEND;TZID=Europe/Simferopol:20230613T110000
DTSTAMP:20260421T222338
CREATED:20230523T105214Z
LAST-MODIFIED:20230523T105214Z
UID:45145-1686650400-1686654000@krbm.ru
SUMMARY:Занимательный урок русского языка	«Говорите красиво и грамотно»
DESCRIPTION:В нашей Молодёжке в рамках мини-проекта «БиблиоЛето» пройдет занимательный урок русского языка «Говорите красиво и грамотно». Гости мероприятия узнают о правилах\, необходимых в устной речи\, в частности\, в области произношения слов и правильного построения синтаксических конструкций. В программе мероприятия предусмотрена демонстрация комментированной медиа-презентации и знакомство с тематической литературой. Приглашаем всех желающих! Будет очень полезно и актуально!\nВход свободный. \n
URL:https://krbm.ru/afisha/zanimatelnyj-urok-russkogo-yazykagovorite-krasivo-i-gramotno/
END:VEVENT
END:VCALENDAR