BEGIN:VCALENDAR
VERSION:2.0
PRODID:-// - ECPv4.5.13//NONSGML v1.0//EN
CALSCALE:GREGORIAN
METHOD:PUBLISH
X-WR-CALNAME:
X-ORIGINAL-URL:https://krbm.ru
X-WR-CALDESC:Events for 
BEGIN:VEVENT
DTSTART;TZID=Europe/Simferopol:20230625T130000
DTEND;TZID=Europe/Simferopol:20230625T140000
DTSTAMP:20260421T222257
CREATED:20230523T105545Z
LAST-MODIFIED:20230523T105545Z
UID:45165-1687698000-1687701600@krbm.ru
SUMMARY:Субфест	«МИКС: Молодежь. Искусство. Книги. Субкультура»
DESCRIPTION:При поддержке Министерства культуры Республики Крым  пройдёт Субфест «МИКС: Молодежь. Искусство. Книги. Субкультура». Гости мероприятия познакомятся с историей и атрибутикой молодёжных субкультур и произведениями различных видов современного искусства. Кроме того\, будут показаны выступления поэтов\, музыкантов\, косплееров и исторических реконструкторов\, а также интересные интервью о специфике их творческой деятельности. Вниманию посетителей будут представлены книжные новинки\, популярные среди современной молодежи. В рамках мероприятия предусмотрена демонстрация различных комментированных презентаций на тему развития субкультур в Крыму. В течение всего дня участники и гости фестиваля смогут знакомиться с тематическими книжными и периодическими изданиями\, посвященными разнообразным аспектам культуры и искусства. Приглашаем всех желающих! Будет интересно и необычно! \nВход свободный. \n
URL:https://krbm.ru/afisha/subfestmiks-molodezh-iskusstvo-knigi-subkultura-2/
END:VEVENT
END:VCALENDAR