BEGIN:VCALENDAR
VERSION:2.0
PRODID:-// - ECPv4.5.13//NONSGML v1.0//EN
CALSCALE:GREGORIAN
METHOD:PUBLISH
X-WR-CALNAME:
X-ORIGINAL-URL:https://krbm.ru
X-WR-CALDESC:Events for 
BEGIN:VEVENT
DTSTART;TZID=Europe/Simferopol:20260428T130000
DTEND;TZID=Europe/Simferopol:20260428T140000
DTSTAMP:20260419T204245
CREATED:20260331T092955Z
LAST-MODIFIED:20260331T092955Z
UID:60298-1777381200-1777384800@krbm.ru
SUMMARY:Слайд-обзор (к Всемирному дню охраны труда)	«Доступ к безопасности: информация как основа защиты»
DESCRIPTION:К Всемирному дню охраны труда у нас пройдет слайд-обзор «Доступ к безопасности: информация как основа защиты». Гости узнают\, почему безопасность на рабочем месте начинается не со страховки или спецодежды\, а с информации. Мероприятие раскроет ключевые аспекты профилактики производственных травм\, правильной организации труда\, соблюдения норм охраны труда и роли информированности работника. Будут рассматриваться реальные примеры инцидентов\, связанных с недопониманием или отсутствием доступа к необходимым сведениям\, а также способы повышения осведомлённости через образовательные материалы\, памятки и цифровые ресурсы. Особое внимание уделено темам: работа с опасными веществами\, безопасная эксплуатация техники\, психоэмоциональная нагрузка и профилактика профессиональных заболеваний. Кроме того\, предусмотрен просмотр выставки-рекомендации «Безопасность и охрана труда». Приходите сами и приводите друзей! Будет интересно и актуально!\nВход свободный. \n
URL:https://krbm.ru/afisha/slajd-obzor-k-vsemirnomu-dnyu-oxrany-trudadostup-k-bezopasnosti-informaciya-kak-osnova-zashhity/
END:VEVENT
END:VCALENDAR