BEGIN:VCALENDAR
VERSION:2.0
PRODID:-// - ECPv4.5.13//NONSGML v1.0//EN
CALSCALE:GREGORIAN
METHOD:PUBLISH
X-WR-CALNAME:
X-ORIGINAL-URL:https://krbm.ru
X-WR-CALDESC:Events for 
BEGIN:VEVENT
DTSTART;TZID=Europe/Simferopol:20230614T130000
DTEND;TZID=Europe/Simferopol:20230614T140000
DTSTAMP:20260421T222309
CREATED:20230523T105242Z
LAST-MODIFIED:20230523T105242Z
UID:45148-1686747600-1686751200@krbm.ru
SUMMARY:Профилактическая беседа	«Пожарная безопасность»
DESCRIPTION:В нашей Молодёжке пройдет профилактическая беседа «Пожарная безопасность». Гости мероприятия узнают правила поведения при пожаре\, а также методы профилактики возгорания. В рамках мероприятия предусмотрен показ комментированной видео-презентации и знакомство с тематической литературой. Ждём всех желающих! Будет очень полезно и актуально!\nВход свободный. \n
URL:https://krbm.ru/afisha/profilakticheskaya-besedapozharnaya-bezopasnost/
END:VEVENT
END:VCALENDAR