BEGIN:VCALENDAR
VERSION:2.0
PRODID:-// - ECPv4.5.13//NONSGML v1.0//EN
CALSCALE:GREGORIAN
METHOD:PUBLISH
X-WR-CALNAME:
X-ORIGINAL-URL:https://krbm.ru
X-WR-CALDESC:Events for 
BEGIN:VEVENT
DTSTART;TZID=Europe/Simferopol:20230727T130000
DTEND;TZID=Europe/Simferopol:20230727T140000
DTSTAMP:20260421T221250
CREATED:20230622T083017Z
LAST-MODIFIED:20230622T083017Z
UID:45542-1690462800-1690466400@krbm.ru
SUMMARY:Православный путеводитель  (ко Дню Крещения Руси)	«Час настал – крестилась Русь»
DESCRIPTION:При поддержке Министерства культуры республики Крым пройдёт православный путеводитель\, приуроченный ко Дню Крещения Руси. Гостей мероприятия ждет встреча с представителем православного духовенства\, который расскажет об одном из самых значимых событий в истории нашей страны. Читатели существенно пополнят свой багаж знаний об истоках зарождения христианства среди славян\, переходе народов древней Руси от язычества к православию\, о трудностях этого перехода и сохранении веры православной до сегодняшнего дня. Благодаря прослушанной информации и сопутствующей интерактивной дискуссии\, посетители библиотеки еще раз убедятся в огромном значении христианства в истории нашей страны и в жизни каждого человека.\nПриходите сами и приводите друзей! Будет очень интересно и актуально! \nВход свободный. \n
URL:https://krbm.ru/afisha/pravoslavnyj-putevoditel-ko-dnyu-kreshheniya-rusichas-nastal-krestilas-rus/
END:VEVENT
END:VCALENDAR