BEGIN:VCALENDAR
VERSION:2.0
PRODID:-// - ECPv4.5.13//NONSGML v1.0//EN
CALSCALE:GREGORIAN
METHOD:PUBLISH
X-WR-CALNAME:
X-ORIGINAL-URL:https://krbm.ru
X-WR-CALDESC:Events for 
BEGIN:VEVENT
DTSTART;TZID=Europe/Simferopol:20260410T130000
DTEND;TZID=Europe/Simferopol:20260410T140000
DTSTAMP:20260419T204216
CREATED:20260331T091435Z
LAST-MODIFIED:20260331T091435Z
UID:60262-1775826000-1775829600@krbm.ru
SUMMARY:Познавательная программа (ко Дню космонавтики)	«Путешествие по солнечной системе»
DESCRIPTION:В нашей библиотеке пройдет познавательная программа\, приуроченный ко Дню космонавтики. Ведущий мероприятия расскажет о первых космических полётах и достижениях Российской космонавтики. В формате живой беседы будут обсуждены новые открытия и технологии в области космоса. Посетителям также будет предложено поучаствовать в тематической викторине. Кроме того\, предусмотрено знакомство с выставкой-путешествием «По просторам Вселенной»\, экспонирующей литературу по теме космонавтики\, значимости исследований космоса и истории освоения человеком вселенной. Это отличная возможность погрузиться в увлекательный мир космонавтики\, узнать много нового и вдохновиться на будущие открытия! Не упустите шанс стать частью этого уникального события! Ждем вас!  \nВход свободный. \n
URL:https://krbm.ru/afisha/poznavatelnaya-programma-ko-dnyu-kosmonavtikiputeshestvie-po-solnechnoj-sisteme/
END:VEVENT
END:VCALENDAR