BEGIN:VCALENDAR
VERSION:2.0
PRODID:-// - ECPv4.5.13//NONSGML v1.0//EN
CALSCALE:GREGORIAN
METHOD:PUBLISH
X-WR-CALNAME:
X-ORIGINAL-URL:https://krbm.ru
X-WR-CALDESC:Events for 
BEGIN:VEVENT
DTSTART;TZID=Europe/Simferopol:20230709T130000
DTEND;TZID=Europe/Simferopol:20230709T140000
DTSTAMP:20260421T210019
CREATED:20230622T082539Z
LAST-MODIFIED:20230622T082539Z
UID:45518-1688907600-1688911200@krbm.ru
SUMMARY:Однодневная выставка искусства	«АРТ–площадка»
DESCRIPTION:При поддержке Министерства культуры Республики Крым пройдет однодневная выставка искусства. Сотрудники библиотеки продемонстрируют комментированную медиа-презентацию о современном развитии творчества на крымском полуострове. Кроме того\, читатели познакомятся с авторскими работами молодых художников\, выполненными в различных техниках изобразительного и декоративно-прикладного искусства. Гости мероприятия получат уникальную возможность пообщаться с авторами и побеседовать с ними об истории их увлечения художественным творчеством и источниках вдохновения. В рамках мероприятия читатели познакомятся с тематическими книжными и периодическими изданиями.\nПриходите сами и приводите друзей! Будет красиво и необычно! \nВход свободный. \n
URL:https://krbm.ru/afisha/odnodnevnaya-vystavka-iskusstvaart-ploshhadka/
END:VEVENT
END:VCALENDAR