BEGIN:VCALENDAR
VERSION:2.0
PRODID:-// - ECPv4.5.13//NONSGML v1.0//EN
CALSCALE:GREGORIAN
METHOD:PUBLISH
X-WR-CALNAME:
X-ORIGINAL-URL:https://krbm.ru
X-WR-CALDESC:Events for 
BEGIN:VEVENT
DTSTART;TZID=Europe/Simferopol:20230711T100000
DTEND;TZID=Europe/Simferopol:20230711T110000
DTSTAMP:20260421T221347
CREATED:20230622T082642Z
LAST-MODIFIED:20230622T082642Z
UID:45522-1689069600-1689073200@krbm.ru
SUMMARY:(Мини-проект «БиблиоЛето») Страноведческая гостиная	«Италия без маски»
DESCRIPTION:В рамках мини-проекта «БиблиоЛето» в нашей библиотеке пройдет страноведческая гостиная «Италия без маски». Гости мероприятия получат возможность не только проявить\, но и повысить свою эрудицию в области итальянской истории\, культуры и кулинарного искусства. Также им будут предложены видеоматериалы по занимательному изучению итальянского языка. Приглашаем всех желающих! Будет весело и интересно!\nВход свободный. \n
URL:https://krbm.ru/afisha/mini-proekt-biblioleto-stranovedcheskaya-gostinayaitaliya-bez-maski/
END:VEVENT
END:VCALENDAR