BEGIN:VCALENDAR
VERSION:2.0
PRODID:-// - ECPv4.5.13//NONSGML v1.0//EN
CALSCALE:GREGORIAN
METHOD:PUBLISH
X-WR-CALNAME:
X-ORIGINAL-URL:https://krbm.ru
X-WR-CALDESC:Events for 
BEGIN:VEVENT
DTSTART;TZID=Europe/Simferopol:20230703T100000
DTEND;TZID=Europe/Simferopol:20230703T110000
DTSTAMP:20260421T221535
CREATED:20230622T082308Z
LAST-MODIFIED:20230622T082308Z
UID:45504-1688378400-1688382000@krbm.ru
SUMMARY:(Мини-проект «БиблиоЛето») Литературное турне	«Со сказкой по странам и континентам»
DESCRIPTION:В рамках мини-проекта «БиблиоЛето» в нашей библиотеке пройдет литературное турне «Со сказкой по странам и континентам». Читатели поучаствуют в необычной игровой программе\, благодаря которой смогут продемонстрировать\, а также повысить свою эрудицию в области народных и авторских произведений разных стран мира. Ждём всех желающих! Будет очень интересно и увлекательно! \nВход свободный. \n
URL:https://krbm.ru/afisha/mini-proekt-biblioleto-literaturnoe-turneso-skazkoj-po-stranam-i-kontinentam/
END:VEVENT
END:VCALENDAR