BEGIN:VCALENDAR
VERSION:2.0
PRODID:-// - ECPv4.5.13//NONSGML v1.0//EN
CALSCALE:GREGORIAN
METHOD:PUBLISH
X-WR-CALNAME:
X-ORIGINAL-URL:https://krbm.ru
X-WR-CALDESC:Events for 
BEGIN:VEVENT
DTSTART;TZID=Europe/Simferopol:20230710T100000
DTEND;TZID=Europe/Simferopol:20230710T110000
DTSTAMP:20260421T221330
CREATED:20230622T082609Z
LAST-MODIFIED:20230622T082618Z
UID:45520-1688983200-1688986800@krbm.ru
SUMMARY:(Мини-проект «БиблиоЛето») Эстафета безопасности	«Юный пожарный»
DESCRIPTION:В рамках мини-проекта «БиблиоЛето» в нашей Молодёжке пройдет эстафета безопасности «Юный пожарный». Специалисты библиотеки продемонстрируют тематическую медиа-презентацию\, а также обсудят с читателями правила поведения при пожаре. Ждем всех желающих! Будет полезно и информативно!\nВход свободный. \n
URL:https://krbm.ru/afisha/mini-proekt-biblioleto-estafeta-bezopasnostiyunyj-pozharnyj/
END:VEVENT
END:VCALENDAR