BEGIN:VCALENDAR
VERSION:2.0
PRODID:-// - ECPv4.5.13//NONSGML v1.0//EN
CALSCALE:GREGORIAN
METHOD:PUBLISH
X-WR-CALNAME:
X-ORIGINAL-URL:https://krbm.ru
X-WR-CALDESC:Events for 
BEGIN:VEVENT
DTSTART;TZID=Europe/Simferopol:20230704T100000
DTEND;TZID=Europe/Simferopol:20230704T110000
DTSTAMP:20260421T210216
CREATED:20230622T082400Z
LAST-MODIFIED:20230622T082400Z
UID:45508-1688464800-1688468400@krbm.ru
SUMMARY:(Мини-проект «БиблиоЛето») Экологический турнир знатоков	«Загадки на каждом шагу»
DESCRIPTION:В рамках мини-проекта «БиблиоЛето» в нашей Молодёжке пройдет экологический турнир знатоков «Загадки на каждом шагу». Читатели получат уникальную возможность проявить свои знания и узнают много нового и интересного о наиболее эффективных методах решения экологических проблем. Приходите сами и приводите друзей! Будет очень занимательно! \nВход свободный. \n
URL:https://krbm.ru/afisha/mini-proekt-biblioleto-ekologicheskij-turnir-znatokovzagadki-na-kazhdom-shagu/
END:VEVENT
END:VCALENDAR