BEGIN:VCALENDAR
VERSION:2.0
PRODID:-// - ECPv4.5.13//NONSGML v1.0//EN
CALSCALE:GREGORIAN
METHOD:PUBLISH
X-WR-CALNAME:
X-ORIGINAL-URL:https://krbm.ru
X-WR-CALDESC:Events for 
BEGIN:VEVENT
DTSTART;TZID=Europe/Simferopol:20260407T130000
DTEND;TZID=Europe/Simferopol:20260407T140000
DTSTAMP:20260419T204249
CREATED:20260331T091303Z
LAST-MODIFIED:20260331T091303Z
UID:60254-1775566800-1775570400@krbm.ru
SUMMARY:Мероприятия в рамках творческого проекта «Артель «Мартель» Творческая встреча	«№3»
DESCRIPTION:В рамках творческого проекта «Артель «Мартель» пройдет творческая встреча «№3». Каждый мастер или художник\, участвующий в нашем проекте\, вносит свою уникальную нотку\, и встреча «№3» обещает стать особенно ярким полотном\, сотканным из вашего вдохновения и нашей общей страсти к творчеству. Мы готовим для вас нечто особенное\, что позволит каждому раскрыть свой потенциал\, поделиться своими мыслями и\, возможно\, найти единомышленников для будущих проектов. Это пространство\, где рождаются идеи\, где слова обретают форму\, а образы оживают. Кроме того\, у нас очень много интересной литературы по различным направлениям декоративно-прикладного искусства. Присоединяйтесь к нам\, чтобы стать частью этого захватывающего процесса\, где каждый может найти свое место и внести свой вклад в общее дело. Мы верим\, что именно в таких встречах зарождаются самые смелые замыслы и самые искренние творческие связи. Не упустите возможность стать свидетелем и участником этого волшебства! \nВход свободный. \n
URL:https://krbm.ru/afisha/meropriyatiya-v-ramkax-tvorcheskogo-proekta-artel-martel-tvorcheskaya-vstrecha3/
END:VEVENT
END:VCALENDAR