BEGIN:VCALENDAR
VERSION:2.0
PRODID:-// - ECPv4.5.13//NONSGML v1.0//EN
CALSCALE:GREGORIAN
METHOD:PUBLISH
X-WR-CALNAME:
X-ORIGINAL-URL:https://krbm.ru
X-WR-CALDESC:Events for 
BEGIN:VEVENT
DTSTART;TZID=Europe/Simferopol:20240417T160000
DTEND;TZID=Europe/Simferopol:20240417T170000
DTSTAMP:20260421T092004
CREATED:20240326T075142Z
LAST-MODIFIED:20240326T075142Z
UID:49411-1713369600-1713373200@krbm.ru
SUMMARY:Мероприятия в рамках проекта «Хочу быть фотографом» Творческая лаборатория	«Основы работы с фотоаппаратом»
DESCRIPTION:В рамках проекта «Хочу быть фотографом» в нашей библиотеке пройдет творческая лаборатория «Основы работы с фотоаппаратом». Гости мероприятия обучатся базовым основам фотографирования и откроют для себя устройство настоящей профессиональной фотокамеры.\nПрисоединяйтесь к проекту! Это отличный старт для обретения новой профессии! \nВход свободный. \n
URL:https://krbm.ru/afisha/meropriyatiya-v-ramkax-proekta-xochu-byt-fotografom-tvorcheskaya-laboratoriyaosnovy-raboty-s-fotoapparatom/
END:VEVENT
END:VCALENDAR