BEGIN:VCALENDAR
VERSION:2.0
PRODID:-// - ECPv4.5.13//NONSGML v1.0//EN
CALSCALE:GREGORIAN
METHOD:PUBLISH
X-WR-CALNAME:
X-ORIGINAL-URL:https://krbm.ru
X-WR-CALDESC:Events for 
BEGIN:VEVENT
DTSTART;TZID=Europe/Simferopol:20230703T160000
DTEND;TZID=Europe/Simferopol:20230703T170000
DTSTAMP:20260421T211157
CREATED:20230622T082334Z
LAST-MODIFIED:20230622T082334Z
UID:45506-1688400000-1688403600@krbm.ru
SUMMARY:Мероприятия в рамках проекта «Хочу быть фотографом» Творческая лаборатория	«Контраст\, резкость\, экспозиция»
DESCRIPTION:В рамках проекта «Хочу быть фотографом» в нашей Молодёжке пройдет творческая лаборатория «Контраст\, резкость\, экспозиция». Участники проекта продолжат изучать азы фотографии\, а также попрактикуются в применении полезных лайфхаков в области жанровой съемки. Присоединяйтесь! Это очень интересно! \n  \nВход свободный. \n
URL:https://krbm.ru/afisha/meropriyatiya-v-ramkax-proekta-xochu-byt-fotografom-tvorcheskaya-laboratoriyakontrast-rezkost-ekspoziciya/
END:VEVENT
END:VCALENDAR