BEGIN:VCALENDAR
VERSION:2.0
PRODID:-// - ECPv4.5.13//NONSGML v1.0//EN
CALSCALE:GREGORIAN
METHOD:PUBLISH
X-WR-CALNAME:
X-ORIGINAL-URL:https://krbm.ru
X-WR-CALDESC:Events for 
BEGIN:VEVENT
DTSTART;TZID=Europe/Simferopol:20260410T140000
DTEND;TZID=Europe/Simferopol:20260410T150000
DTSTAMP:20260419T204358
CREATED:20260331T091456Z
LAST-MODIFIED:20260331T091456Z
UID:60264-1775829600-1775833200@krbm.ru
SUMMARY:Мероприятия в рамках проекта «Помним. Храним. Дорожим» Взгляд в прошлое (к Международному дню освобождения узников фашистских концлагерей)	«Голоса\, которые нельзя  забыть»
DESCRIPTION:В рамках проекта «Помним. Храним. Дорожим» пройдет мероприятие «Голоса\, которые нельзя забыть»\, посвящённое Международному дню освобождения узников фашистских концлагерей. Ведущий мероприятия презентует материалы об истории концлагерей и трагедии их узников. Специально для гостей мероприятия будет организована открытая дискуссия о важности сохранения памяти и уроках истории\, а также знакомство с изданиями\, представленными на выставке-памяти «И помнить страшно\, и забыть нельзя». Приглашаем всех желающих присоединиться к нам. Давайте вместе вспомним тех\, кто пережил эти страшные испытания\, и отдадим дань уважения их мужеству. Ждём вас! \nВход свободный. \n
URL:https://krbm.ru/afisha/meropriyatiya-v-ramkax-proekta-pomnim-xranim-dorozhim-vzglyad-v-proshloe-k-mezhdunarodnomu-dnyu-osvobozhdeniya-uznikov-fashistskix-konclagerejgolosa-kotorye-nelzya-zabyt/
END:VEVENT
END:VCALENDAR