BEGIN:VCALENDAR
VERSION:2.0
PRODID:-// - ECPv4.5.13//NONSGML v1.0//EN
CALSCALE:GREGORIAN
METHOD:PUBLISH
X-WR-CALNAME:
X-ORIGINAL-URL:https://krbm.ru
X-WR-CALDESC:Events for 
BEGIN:VEVENT
DTSTART;TZID=Europe/Simferopol:20240409T130000
DTEND;TZID=Europe/Simferopol:20240409T140000
DTSTAMP:20260421T091836
CREATED:20240326T074623Z
LAST-MODIFIED:20240326T074623Z
UID:49394-1712667600-1712671200@krbm.ru
SUMMARY:Мероприятия в рамках проекта «Помним. Храним. Дорожим» Урок памяти и скорби (к Международному дню освобождения узников фашистских концлагерей)	«Есть имена и есть такие даты…»
DESCRIPTION:При поддержке Министерства культуры Республики Крым в рамках проекта «Помним. Храним. Дорожим» пройдет урок памяти и скорби «Есть имена и есть такие даты…»\, приуроченный к Международному дню освобождения узников фашистских концлагерей. Сотрудники библиотеки расскажут об истории возникновения концентрационных лагерей\, жертвами которых стали сотни тысяч человек. Перед глазами читателей предстанут судьбы тех\, кто так никогда и не увидел мирного неба над головой. В рамках мероприятия прозвучит рассказ о концлагере в совхозе «Красный» и соответствующем памятном мемориале\, открытом 8 мая 2015 года. Формат мероприятия предполагает просмотр комментированной презентации и знакомство с тематической литературой. Приходите сами и приводите друзей! Будет полезно для исторического кругозора! \nВход свободный. \n
URL:https://krbm.ru/afisha/meropriyatiya-v-ramkax-proekta-pomnim-xranim-dorozhim-urok-pamyati-i-skorbi-k-mezhdunarodnomu-dnyu-osvobozhdeniya-uznikov-fashistskix-konclagerejest-imena-i-est-takie-daty/
END:VEVENT
END:VCALENDAR