BEGIN:VCALENDAR
VERSION:2.0
PRODID:-// - ECPv4.5.13//NONSGML v1.0//EN
CALSCALE:GREGORIAN
METHOD:PUBLISH
X-WR-CALNAME:
X-ORIGINAL-URL:https://krbm.ru
X-WR-CALDESC:Events for 
BEGIN:VEVENT
DTSTART;TZID=Europe/Simferopol:20240418T130000
DTEND;TZID=Europe/Simferopol:20240418T140000
DTSTAMP:20260421T091923
CREATED:20240326T075221Z
LAST-MODIFIED:20240326T075221Z
UID:49413-1713445200-1713448800@krbm.ru
SUMMARY:Мероприятия в рамках проекта «Помним. Храним. Дорожим» Портрет на фоне истории (ко Дню принятия Крыма\, Тамани и Кубани в состав Российской империи)	«Всероссийская императрица Екатерина II»
DESCRIPTION:В рамках проекта «Помним. Храним. Дорожим» в нашей библиотеке пройдет портрет на фоне истории «Всероссийская императрица Екатерина II»\, приуроченный ко Дню принятия Крыма\, Тамани и Кубани в состав Российской империи. Читатели откроют для себя ряд любопытных фактов о событиях\, значимых для истории нашей страны. Сотрудники библиотеки поведают им о жизни и деятельности Екатерины II и о подписании ею 19 апреля 1783 года Высочайшего манифеста «О принятии Крымского полуострова\, острова Тамань и всея Кубанской стороны под державу Российскую». В формате интерактивной дискуссии гости мероприятия обсудили выгоды подобного государственного изменения\, а именно безопасность южных границ Российской империи\, развитие морской торговли и строительство таких городов\, как Севастополь и Симферополь. Приходите сами и приводите друзей! Будет полезно для исторического кругозора! \nВход свободный. \n
URL:https://krbm.ru/afisha/meropriyatiya-v-ramkax-proekta-pomnim-xranim-dorozhim-portret-na-fone-istorii-ko-dnyu-prinyatiya-kryma-tamani-i-kubani-v-sostav-rossijskoj-imperiivserossijskaya-imperatrica-ekaterina-ii/
END:VEVENT
END:VCALENDAR