BEGIN:VCALENDAR
VERSION:2.0
PRODID:-// - ECPv4.5.13//NONSGML v1.0//EN
CALSCALE:GREGORIAN
METHOD:PUBLISH
X-WR-CALNAME:
X-ORIGINAL-URL:https://krbm.ru
X-WR-CALDESC:Events for 
BEGIN:VEVENT
DTSTART;TZID=Europe/Simferopol:20240408T130000
DTEND;TZID=Europe/Simferopol:20240408T140000
DTSTAMP:20260421T120129
CREATED:20240326T074601Z
LAST-MODIFIED:20240326T074601Z
UID:49392-1712581200-1712584800@krbm.ru
SUMMARY:Мероприятия в рамках проекта «Помним. Храним. Дорожим» Краеведческий альманах  (к 80-летию освобождения Крыма от немецко-фашистских захватчиков)	«Победы крымские страницы»
DESCRIPTION:При поддержке Министерства культуры Республики Крым в рамках проекта «Помним. Храним. Дорожим» пройдет краеведческий альманах «Победы крымские страницы»\, приуроченный к 80-летию освобождения Крыма от немецко-фашистских захватчиков. Сотрудники библиотеки расскажут о значимых сражениях на территории Крымского полуострова в годы Великой Отечественной войны\, а также побеседуют с читателями о крымском партизанском движении и подвигах известных военачальников и простых солдат той эпохи.  В программе мероприятия предусмотрена комментированная медиа-презентация\, содержащая архивные фото- и видеоматериалы. Кроме того\, гости мероприятия смогут ознакомиться с историческими изданиями\, представленными в рамках книжной выставки-экспозиции «Знамя Победы над крымской землей». Приглашаем всех желающих! Будет очень интересно! \nВход свободный. \n
URL:https://krbm.ru/afisha/meropriyatiya-v-ramkax-proekta-pomnim-xranim-dorozhim-kraevedcheskij-almanax-k-80-letiyu-osvobozhdeniya-kryma-ot-nemecko-fashistskix-zaxvatchikovpobedy-krymskie-stranicy/
END:VEVENT
END:VCALENDAR