BEGIN:VCALENDAR
VERSION:2.0
PRODID:-// - ECPv4.5.13//NONSGML v1.0//EN
CALSCALE:GREGORIAN
METHOD:PUBLISH
X-WR-CALNAME:
X-ORIGINAL-URL:https://krbm.ru
X-WR-CALDESC:Events for 
BEGIN:VEVENT
DTSTART;TZID=Europe/Simferopol:20260420T120000
DTEND;TZID=Europe/Simferopol:20260420T130000
DTSTAMP:20260419T204341
CREATED:20260331T092710Z
LAST-MODIFIED:20260331T092710Z
UID:60283-1776686400-1776690000@krbm.ru
SUMMARY:Мероприятия в рамках проекта по работе с лицами с ОВЗ «Живая строка» Краеведческое путешествие	«Дивными крымскими тропами»
DESCRIPTION:В рамках проекта по работе с лицами с ОВЗ «Живая строка» у нас пройдет краеведческое путешествие «Дивными крымскими тропами». Участники встречи получат возможность отправиться в виртуальную прогулку по самым знаковым и загадочным местам Крыма. От древних пещерных городов до величественных дворцов\, от диких горных троп до таинственных прибрежных скал – каждый найдет что-то свое. Кроме того\, гости мероприятия узнают о легендах\, которые хранят вековые камни\, и о людях\, чьи судьбы тесно переплелись с этим благодатным краем\, ну и\, конечно же\, познакомятся с тематической литературой. \nВход свободный. \n
URL:https://krbm.ru/afisha/meropriyatiya-v-ramkax-proekta-po-rabote-s-licami-s-ovz-zhivaya-stroka-kraevedcheskoe-puteshestviedivnymi-krymskimi-tropami/
END:VEVENT
END:VCALENDAR