BEGIN:VCALENDAR
VERSION:2.0
PRODID:-// - ECPv4.5.13//NONSGML v1.0//EN
CALSCALE:GREGORIAN
METHOD:PUBLISH
X-WR-CALNAME:
X-ORIGINAL-URL:https://krbm.ru
X-WR-CALDESC:Events for 
BEGIN:VEVENT
DTSTART;TZID=Europe/Simferopol:20230608T130000
DTEND;TZID=Europe/Simferopol:20230608T140000
DTSTAMP:20260421T233930
CREATED:20230523T105138Z
LAST-MODIFIED:20230523T105138Z
UID:45143-1686229200-1686232800@krbm.ru
SUMMARY:Мероприятия в рамках проекта «АИФ» Деловая игра  (ко Дню России)	«Россия – Родина моя»
DESCRIPTION:При поддержке Министерства культуры Республики Крым в рамках проекта «АИФ» пройдёт деловая игра «Россия – Родина моя»\, приуроченная ко Дню России. Читателям будут предложены креативные задания\, посвященные исторической судьбе нашей Родины\, её культуре и политике. Участники получат уникальную возможность продемонстрировать свою эрудицию в области духовно-культурных традиций России\, а также проявить командный дух и волю к победе. Кроме того\, гости мероприятия осознают важность патриотического воспитания на всех уровнях человеческого бытия. В завершение программы\, присутствующие смогут ознакомиться с изданиями по теме мероприятия. Приходите сами и приводите друзей! Будет очень полезно для расширения исторического кругозора! \nВход свободный.  \n
URL:https://krbm.ru/afisha/meropriyatiya-v-ramkax-proekta-aif-delovaya-igra-ko-dnyu-rossiirossiya-rodina-moya/
END:VEVENT
END:VCALENDAR