BEGIN:VCALENDAR
VERSION:2.0
PRODID:-// - ECPv4.5.13//NONSGML v1.0//EN
CALSCALE:GREGORIAN
METHOD:PUBLISH
X-WR-CALNAME:
X-ORIGINAL-URL:https://krbm.ru
X-WR-CALDESC:Events for 
BEGIN:VEVENT
DTSTART;TZID=Europe/Simferopol:20230620T130000
DTEND;TZID=Europe/Simferopol:20230620T140000
DTSTAMP:20260421T234140
CREATED:20230523T105430Z
LAST-MODIFIED:20230523T105430Z
UID:45157-1687266000-1687269600@krbm.ru
SUMMARY:Мероприятия в рамках цикла «Литературный гид: перезагрузка» Литературный вечер	«Журналистские расследования Юлиана Семенова»
DESCRIPTION:В рамках цикла «Литературный гид: перезагрузка» в нашей библиотеке пройдет литературный вечер «Журналистские расследования Юлиана Семенова». Гости мероприятия узнают о жизни и творчестве известного писателя\, а также об истории создания произведения\, положенного в основу культового фильма «Семнадцать мгновений весны». В программе мероприятия предусмотрен показ комментированной медиа-презентации и знакомство с тематической книжной экспозицией. Ждём всех желающих! Будет очень полезно для литературного кругозора!\nВход свободный. \n
URL:https://krbm.ru/afisha/meropriyatiya-v-ramkax-cikla-literaturnyj-gid-perezagruzka-literaturnyj-vecherzhurnalistskie-rassledovaniya-yuliana-semenova/
END:VEVENT
END:VCALENDAR