BEGIN:VCALENDAR
VERSION:2.0
PRODID:-// - ECPv4.5.13//NONSGML v1.0//EN
CALSCALE:GREGORIAN
METHOD:PUBLISH
X-WR-CALNAME:
X-ORIGINAL-URL:https://krbm.ru
X-WR-CALDESC:Events for 
BEGIN:VEVENT
DTSTART;TZID=Europe/Simferopol:20230615T130000
DTEND;TZID=Europe/Simferopol:20230615T140000
DTSTAMP:20260421T222511
CREATED:20230523T105305Z
LAST-MODIFIED:20230523T105305Z
UID:45151-1686834000-1686837600@krbm.ru
SUMMARY:Мероприятия в рамках цикла «Эскизы прошлой жизни» Территория прошлого	«Детский парк – один из первых в мире»
DESCRIPTION:В рамках цикла «Эскизы прошлой жизни» у нас пройдет территория прошлого «Детский парк – один из первых в мире». Гости мероприятия откроют для себя новые факты об одной из самых необычных достопримечательностях крымской столицы. В программе мероприятия предусмотрен показ тематической медиа-презентации и знакомство с тематической литературой. Приходите сами и приводите друзей! Будет очень интересно!\nВход свободный. \n
URL:https://krbm.ru/afisha/meropriyatiya-v-ramkax-cikla-eskizy-proshloj-zhizni-territoriya-proshlogodetskij-park-odin-iz-pervyx-v-mire/
END:VEVENT
END:VCALENDAR