BEGIN:VCALENDAR
VERSION:2.0
PRODID:-// - ECPv4.5.13//NONSGML v1.0//EN
CALSCALE:GREGORIAN
METHOD:PUBLISH
X-WR-CALNAME:
X-ORIGINAL-URL:https://krbm.ru
X-WR-CALDESC:Events for 
BEGIN:VEVENT
DTSTART;TZID=Europe/Simferopol:20260419T120000
DTEND;TZID=Europe/Simferopol:20260419T130000
DTSTAMP:20260419T204414
CREATED:20260331T092619Z
LAST-MODIFIED:20260331T092619Z
UID:60281-1776600000-1776603600@krbm.ru
SUMMARY:Мероприятия в рамках благотворительного проекта «Квартальный меняльник» Социальная акция	«Весенний меняльник»
DESCRIPTION:При поддержке Министерства культуры Республики Крым в ГБУК РК «Крымская республиканская библиотека для молодёжи» в рамках благотворительного проекта «Квартальный меняльник» пройдет социальная акция. Участники получат возможность: избавьтесь от вещей\, которые уже не нужны\, и освободите место для новых; найти вещи\, которые давно искали или о которых даже не подозревали; встретиться с единомышленниками\, обменяться мнениями и просто провести время в приятной атмосфере\, а также сделать вклад в благотворительность\, оказав помощь тем\, кто в ней нуждается\, осознав то\, что старая\, на первый взгляд\, вещь может стать ценным подарком для тех\, кому она действительно нужна. Приходите сами и приводите друзей! Будет очень здорово!\nВход свободный. \n
URL:https://krbm.ru/afisha/meropriyatiya-v-ramkax-blagotvoritelnogo-proekta-kvartalnyj-menyalnik-socialnaya-akciyavesennij-menyalnik/
END:VEVENT
END:VCALENDAR