BEGIN:VCALENDAR
VERSION:2.0
PRODID:-// - ECPv4.5.13//NONSGML v1.0//EN
CALSCALE:GREGORIAN
METHOD:PUBLISH
X-WR-CALNAME:
X-ORIGINAL-URL:https://krbm.ru
X-WR-CALDESC:Events for 
BEGIN:VEVENT
DTSTART;TZID=Europe/Simferopol:20230720T130000
DTEND;TZID=Europe/Simferopol:20230720T140000
DTSTAMP:20260421T210020
CREATED:20230622T082934Z
LAST-MODIFIED:20230622T082934Z
UID:45537-1689858000-1689861600@krbm.ru
SUMMARY:Мастер-класс (к Международному дню шахмат)	«Расставляй!»
DESCRIPTION:К Международному дню шахмат в нашей Молодёжке состоится мастер-класс «Расставляй!». Гости мероприятия узнают об истории игры\, а также обучатся основным навыкам. В программе мероприятия предусмотрен просмотр тематических видеоматериалов и знакомство с профильной литературой. Приглашаем всех желающих! Будет интересно и полезно! \nВход свободный. \n
URL:https://krbm.ru/afisha/master-klass-k-mezhdunarodnomu-dnyu-shaxmatrasstavlyaj/
END:VEVENT
END:VCALENDAR