BEGIN:VCALENDAR
VERSION:2.0
PRODID:-// - ECPv4.5.13//NONSGML v1.0//EN
CALSCALE:GREGORIAN
METHOD:PUBLISH
X-WR-CALNAME:
X-ORIGINAL-URL:https://krbm.ru
X-WR-CALDESC:Events for 
BEGIN:VEVENT
DTSTART;TZID=Europe/Simferopol:20260415T130000
DTEND;TZID=Europe/Simferopol:20260415T140000
DTSTAMP:20260419T204257
CREATED:20260331T091545Z
LAST-MODIFIED:20260331T091545Z
UID:60269-1776258000-1776261600@krbm.ru
SUMMARY:Круглый стол (к Международному дню культуры)	«Традиционная культура в современной жизни»
DESCRIPTION:При поддержке Министерства культуры Республики Крым пройдет круглый стол\, приуроченный к Международному дню культуры. В ходе мероприятия планируется обсуждение следующих вопросов: как культуре удается сохранять свою идентичность\, не превращаясь в музейный экспонат\, а оставаясь живой и актуальной силой; как избежать потери уникальных черт в условиях унификации и массовой культуры; каким образом традиционные ценности могут стать опорой для человека\, помогая ему ориентироваться в современном мире? Кроме того\, планируется знакомство с книжными и периодическими изданиями\, еще глубже раскрывающими тематику мероприятия. Приходите! Будет очень интересно и актуально!\nВход свободный. \n
URL:https://krbm.ru/afisha/kruglyj-stol-k-mezhdunarodnomu-dnyu-kulturytradicionnaya-kultura-v-sovremennoj-zhizni/
END:VEVENT
END:VCALENDAR