BEGIN:VCALENDAR
VERSION:2.0
PRODID:-// - ECPv4.5.13//NONSGML v1.0//EN
CALSCALE:GREGORIAN
METHOD:PUBLISH
X-WR-CALNAME:
X-ORIGINAL-URL:https://krbm.ru
X-WR-CALDESC:Events for 
BEGIN:VEVENT
DTSTART;TZID=Europe/Simferopol:20260416T140000
DTEND;TZID=Europe/Simferopol:20260416T150000
DTSTAMP:20260419T204314
CREATED:20260331T092431Z
LAST-MODIFIED:20260331T092431Z
UID:60273-1776348000-1776351600@krbm.ru
SUMMARY:Краеведческий обзор (к Международному дню памятников и исторических мест)	«Памятники культуры: истории\, которые мы храним»
DESCRIPTION:В нашей Молодежке пройдет краеведческий обзор «Памятники культуры: истории\, которые мы храним»\, приуроченный к Международному дню памятников и исторических мест. Читатели получат уникальную возможность погрузиться в прошлое\, чтобы узнать о создании и судьбах известных и\, возможно\, малоизвестных памятников нашего края; просмотреть яркие фотографии и иллюстрации\, которые помогут оживить страницы истории и увидеть красоту архитектурных шедевров; знакомство с тематическими изданиями. Приходите\, чтобы вместе прикоснуться к прошлому\, почувствовать связь поколений и осознать важность сохранения нашего культурного наследия. Ведь именно эти памятники – живые свидетели нашей истории\, которые мы обязаны беречь и передавать будущим поколениям. Ждем вас!\nВход свободный. \n
URL:https://krbm.ru/afisha/kraevedcheskij-obzor-k-mezhdunarodnomu-dnyu-pamyatnikov-i-istoricheskix-mestpamyatniki-kultury-istorii-kotorye-my-xranim/
END:VEVENT
END:VCALENDAR