BEGIN:VCALENDAR
VERSION:2.0
PRODID:-// - ECPv4.5.13//NONSGML v1.0//EN
CALSCALE:GREGORIAN
METHOD:PUBLISH
X-WR-CALNAME:
X-ORIGINAL-URL:https://krbm.ru
X-WR-CALDESC:Events for 
BEGIN:VEVENT
DTSTART;TZID=Europe/Simferopol:20230621T100000
DTEND;TZID=Europe/Simferopol:20230621T110000
DTSTAMP:20260421T222158
CREATED:20230523T105455Z
LAST-MODIFIED:20230523T105455Z
UID:45160-1687341600-1687345200@krbm.ru
SUMMARY:Игра-викторина	«Всё о спорте»
DESCRIPTION:В рамках мини-проекта «БиблиоЛето» в нашей Молодёжке пройдет игра-викторина «Всё о спорте».  Гости мероприятия смогут проявить свою эрудицию\, а также узнать много нового о различных видах спорта. Ждём всех желающих! Будет очень интересно!\nВход свободный. \n
URL:https://krbm.ru/afisha/igra-viktorinavsyo-o-sporte/
END:VEVENT
END:VCALENDAR