BEGIN:VCALENDAR
VERSION:2.0
PRODID:-// - ECPv4.5.13//NONSGML v1.0//EN
CALSCALE:GREGORIAN
METHOD:PUBLISH
X-WR-CALNAME:
X-ORIGINAL-URL:https://krbm.ru
X-WR-CALDESC:Events for 
BEGIN:VEVENT
DTSTART;TZID=Europe/Simferopol:20260406T130000
DTEND;TZID=Europe/Simferopol:20260406T140000
DTSTAMP:20260419T204318
CREATED:20260331T091237Z
LAST-MODIFIED:20260331T091237Z
UID:60252-1775480400-1775484000@krbm.ru
SUMMARY:Формула здоровья (к Всемирному дню здоровья)	«Слагаемые здорового образа жизни»
DESCRIPTION:У нас в Молодежке пройдет формула здоровья «Слагаемые здорового образа жизни»\, приуроченная к Всемирному дню здоровья. На встрече будут обсуждаться ключевые компоненты здорового образа жизни: от правильного питания и физической активности до ментального благополучия\, и гармонии с собой. Читателей ждут интересные факты\, полезные советы и\, возможно\, новые идеи\, которые вдохновят на позитивные изменения. Кроме того\, предусмотрено знакомство с тематическими изданиями\, представленными на выставке-рекомендации «Секреты здоровья». Приходите\, чтобы узнать больше\, задать вопросы и просто провести время с пользой для себя!\nВход свободный. \n
URL:https://krbm.ru/afisha/formula-zdorovya-k-vsemirnomu-dnyu-zdorovyaslagaemye-zdorovogo-obraza-zhizni/
END:VEVENT
END:VCALENDAR