BEGIN:VCALENDAR
VERSION:2.0
PRODID:-// - ECPv4.5.13//NONSGML v1.0//EN
CALSCALE:GREGORIAN
METHOD:PUBLISH
X-WR-CALNAME:
X-ORIGINAL-URL:https://krbm.ru
X-WR-CALDESC:Events for 
BEGIN:VEVENT
DTSTART;TZID=Europe/Simferopol:20230620T100000
DTEND;TZID=Europe/Simferopol:20230620T110000
DTSTAMP:20260421T222256
CREATED:20230523T105407Z
LAST-MODIFIED:20230523T105407Z
UID:45155-1687255200-1687258800@krbm.ru
SUMMARY:Экочас	«Тайны островов и океанов»
DESCRIPTION:В нашей библиотеке в рамках мини-проекта «БиблиоЛето» пройдет экочас «Тайны островов и океанов». Гости мероприятия откроют для себя интересные факты о природных зонах нашей планеты\, а также познакомятся с наиболее эффективными способами решения экологических проблем. Приходите сами и приводите друзей! Будет интересно и актуально!\nВход свободный. \n
URL:https://krbm.ru/afisha/ekochastajny-ostrovov-i-okeanov/
END:VEVENT
END:VCALENDAR