BEGIN:VCALENDAR
VERSION:2.0
PRODID:-// - ECPv4.5.13//NONSGML v1.0//EN
CALSCALE:GREGORIAN
METHOD:PUBLISH
X-WR-CALNAME:
X-ORIGINAL-URL:https://krbm.ru
X-WR-CALDESC:Events for 
BEGIN:VEVENT
DTSTART;TZID=Europe/Simferopol:20230627T130000
DTEND;TZID=Europe/Simferopol:20230627T140000
DTSTAMP:20260421T210406
CREATED:20230523T105629Z
LAST-MODIFIED:20230523T105629Z
UID:45170-1687870800-1687874400@krbm.ru
SUMMARY:Диалоги о здоровье (к 100-летию образования государственного органа управления в сфере физической культуры и спорта)	«Сила духа и спортивные рекорды»
DESCRIPTION:При поддержке Министерства культуры Республики Крым пройдут диалоги о здоровье «Сила духа и спортивные рекорды»\, приуроченные к 100-летию образования государственного органа управления в сфере физической культуры и спорта. Гости мероприятия познакомятся с различными способами ведения здорового образа жизни и обсудят самые популярные лайфхаки в области физической культуры и рационального питания. Кроме того\, читатели поучаствуют в интерактивной дискуссии о том\, как сохранить здоровье и долголетие в век стремительного технологического прогресса. В рамках мероприятия предусмотрен показ тематической медиа-презентации и знакомство с соответствующей литературой. Приходите сами и приводите друзей! Будет очень интересно! \nВход свободный. \n
URL:https://krbm.ru/afisha/dialogi-o-zdorove-k-100-letiyu-obrazovaniya-gosudarstvennogo-organa-upravleniya-v-sfere-fizicheskoj-kultury-i-sportasila-duxa-i-sportivnye-rekordy/
END:VEVENT
END:VCALENDAR