BEGIN:VCALENDAR
VERSION:2.0
PRODID:-// - ECPv4.5.13//NONSGML v1.0//EN
CALSCALE:GREGORIAN
METHOD:PUBLISH
X-WR-CALNAME:
X-ORIGINAL-URL:https://krbm.ru
X-WR-CALDESC:Events for 
BEGIN:VEVENT
DTSTART;TZID=Europe/Simferopol:20230706T130000
DTEND;TZID=Europe/Simferopol:20230706T140000
DTSTAMP:20260421T210217
CREATED:20230622T082518Z
LAST-MODIFIED:20230622T082518Z
UID:45516-1688648400-1688652000@krbm.ru
SUMMARY:День семьи в библиотеке (к Всероссийскому дню семьи\, любви и верности)	«Возьмите книгу в круг семьи»
DESCRIPTION:При поддержке Министерства культуры Республики Крым пройдёт День семьи в библиотеке\, приуроченный к Всероссийскому дню семьи\, любви и верности. Гости библиотеки смогут проявить художественный вкус и креативность\, поучаствовав в необычных мастер-классах\, ориентированных на семейный досуг. Кроме того\, участники мероприятия получат замечательную возможность познакомиться с книжными и периодическими изданиями\, направленными на воспитание семейных ценностей. Позитивное настроение и уютная домашняя атмосфера помогут читателям погрузиться в мир света и добра\, без которых семья немыслима. В рамках мероприятия также будет представлена интерактивная выставка «Семья – любви великое царство».\nПриходите сами и приводите друзей! Будет весело и интересно! \nВход свободный. \n
URL:https://krbm.ru/afisha/den-semi-v-biblioteke-k-vserossijskomu-dnyu-semi-lyubvi-i-vernostivozmite-knigu-v-krug-semi/
END:VEVENT
END:VCALENDAR