BEGIN:VCALENDAR
VERSION:2.0
PRODID:-// - ECPv4.5.13//NONSGML v1.0//EN
CALSCALE:GREGORIAN
METHOD:PUBLISH
X-WR-CALNAME:
X-ORIGINAL-URL:https://krbm.ru
X-WR-CALDESC:Events for 
BEGIN:VEVENT
DTSTART;TZID=Europe/Simferopol:20230718T160000
DTEND;TZID=Europe/Simferopol:20230718T170000
DTSTAMP:20260421T210330
CREATED:20230622T082728Z
LAST-MODIFIED:20230704T111406Z
UID:45527-1689696000-1689699600@krbm.ru
SUMMARY:Маяковские чтения «Ваше слово…»
DESCRIPTION:При поддержке Министерства культуры Республики Крым пройдут Маяковские чтения «Ваше слово…». Сотрудники библиотеки расскажут о жизни и творчестве известного русского классика и продемонстрируют комментированную медиа-презентацию. Гостей мероприятия ожидает прослушивание и обсуждение произведений великого поэта XX века\, погружающих в неповторимую атмосферу вдохновения и творчества. Читателям будет предложено прочесть свои любимые стихи В. В. Маяковского на тему любви и философского восприятия мира. Кроме того\, их ждет возможность познакомиться с тематической книжной экспозицией\, в которой представлены и произведения поэта\, и книги о его жизни. \n
URL:https://krbm.ru/afisha/art-vstrecha-k-100-letiyu-so-dnya-rozhdeniya-m-i-pugovkinamixail-pugovkin-put-ot-nishhety-do-vershin-kinematografa/
END:VEVENT
END:VCALENDAR