BEGIN:VCALENDAR
VERSION:2.0
PRODID:-// - ECPv4.5.13//NONSGML v1.0//EN
CALSCALE:GREGORIAN
METHOD:PUBLISH
X-WR-CALNAME:
X-ORIGINAL-URL:https://krbm.ru
X-WR-CALDESC:Events for 
BEGIN:VEVENT
DTSTART;TZID=Europe/Simferopol:20260429T130000
DTEND;TZID=Europe/Simferopol:20260429T140000
DTSTAMP:20260419T221235
CREATED:20260331T093016Z
LAST-MODIFIED:20260331T093016Z
UID:60301-1777467600-1777471200@krbm.ru
SUMMARY:Встреча с искусством (к Международному дню танца)	«Свет и тень: хореография эмоций»
DESCRIPTION:В нашей Молодёжке пройдет встреча с искусством «Свет и тень: хореография эмоций»\, приуроченная к Международному дню танца. Гости мероприятия узнают много нового и интересного об искусстве танца\, начиная с классического балета и заканчивая творческими экспериментами\, столь характерными для современного искусства. Кроме того\, предусмотрено знакомство с тематическими книжными изданиями. Не упустите шанс стать частью этого замечательного события! Мы ждем вас!\nВход свободный. \n
URL:https://krbm.ru/afisha/vstrecha-s-iskusstvom-k-mezhdunarodnomu-dnyu-tancasvet-i-ten-xoreografiya-emocij/
END:VEVENT
BEGIN:VEVENT
DTSTART;TZID=Europe/Simferopol:20260429T130000
DTEND;TZID=Europe/Simferopol:20260429T140000
DTSTAMP:20260419T221235
CREATED:20260331T093038Z
LAST-MODIFIED:20260331T093038Z
UID:60303-1777467600-1777471200@krbm.ru
SUMMARY:Экскурс в историю праздника (ко Дню весны и труда)	«Первый майский день»
DESCRIPTION:У нас пройдет экскурс в историю праздника «Первый майский день»\, приуроченный ко Дню весны и труда. Гости мероприятия узнают о том\, как зарождался Первомайский праздник\, почему его отмечают 1 мая\, и какие события легли в его основу. Узнаете\, каким стал этот день в советскую эпоху\, что символизировали красные знамёна и парады рабочих\, а также как постепенно он превратился в праздник\, объединяющий труд\, единство и веру в справедливость. Кроме того\, участники встречи узнают\, как этот праздник отмечают в разных странах мира. Кроме того\, предусмотрено знакомство с тематической литературой. Присоединяйтесь – откройте для себя\, чем уникален Первомай\, и почему даже спустя десятилетия он остаётся важной частью культурной памяти страны!\nВход свободный.  \n
URL:https://krbm.ru/afisha/ekskurs-v-istoriyu-prazdnika-ko-dnyu-vesny-i-trudapervyj-majskij-den/
END:VEVENT
END:VCALENDAR