BEGIN:VCALENDAR
VERSION:2.0
PRODID:-// - ECPv4.5.13//NONSGML v1.0//EN
CALSCALE:GREGORIAN
METHOD:PUBLISH
X-WR-CALNAME:
X-ORIGINAL-URL:https://krbm.ru
X-WR-CALDESC:Events for 
BEGIN:VEVENT
DTSTART;TZID=Europe/Simferopol:20260427T130000
DTEND;TZID=Europe/Simferopol:20260427T140000
DTSTAMP:20260419T204110
CREATED:20260331T092927Z
LAST-MODIFIED:20260331T092927Z
UID:60296-1777294800-1777298400@krbm.ru
SUMMARY:Круглый стол (к 40-летию катастрофы на Чернобыльской АЭС)	«Авария на Чернобыльской АЭС: экологические последствия»
DESCRIPTION:При поддержке Министерства культуры Республики пройдет круглый стол\, приуроченный к 40-летию катастрофы на Чернобыльской АЭС. Участники вспомнят не только хронологию событий и масштабы разрушений\, но и проанализируют какие изменения произошли в законодательстве\, в подходах к безопасности атомной энергетики\, и насколько эффективно эти меры работают сегодня. Особое внимание будет уделено вопросам реабилитации загрязненных территорий\, перспективам их восстановления и тем уникальным экосистемам\, которые сформировались в зоне отчуждения. Кроме того\, будет затрагиваться тема адаптации: того\, как природа\, несмотря на колоссальный удар\, находит пути к возрождению\, и что это значит для людей. Дискуссия затронет и этические аспекты: ответственность ученых\, инженеров\, политиков за принимаемые решения\, а также роль каждого человека в формировании культуры безопасности и бережного отношения к окружающей среде. Также читатели познакомятся с литературой\, представленной на выставке-информации «Чернобыль в памяти и книгах». Приходите! Будет очень интересно и актуально!\nВход свободный. \n
URL:https://krbm.ru/afisha/kruglyj-stol-k-40-letiyu-katastrofy-na-chernobylskoj-aesavariya-na-chernobylskoj-aes-ekologicheskie-posledstviya/
END:VEVENT
END:VCALENDAR