BEGIN:VCALENDAR
VERSION:2.0
PRODID:-// - ECPv4.5.13//NONSGML v1.0//EN
CALSCALE:GREGORIAN
METHOD:PUBLISH
X-WR-CALNAME:
X-ORIGINAL-URL:https://krbm.ru
X-WR-CALDESC:Events for 
BEGIN:VEVENT
DTSTART;TZID=Europe/Simferopol:20260421T130000
DTEND;TZID=Europe/Simferopol:20260421T140000
DTSTAMP:20260419T204147
CREATED:20260331T092735Z
LAST-MODIFIED:20260331T092735Z
UID:60286-1776776400-1776780000@krbm.ru
SUMMARY:Информационно-культурное турне (к 115-летию со дня рождения В.С. Роик)	«Каждый стежок – история»
DESCRIPTION:У нас пройдет информационно-культурное турне «Каждый стежок – история»\, приуроченное к 115-летию со дня рождения В.С. Роик. Читатели получат уникальную возможность: узнать об источниках вдохновения и мастерства известной вышивальщицы и о том\, как она сумела оживить старинные узоры; открыть для себя разнообразие техник\, материалов и символики\, которые использовались в народной вышивке. Кроме того\, читатели узнают\, как каждый стежок нес в себе особый смысл и служил оберегом или пожеланием и\, конечно же\, познакомиться с изданиями о народной культуре\, истории текстиля и значении вышивки в жизни людей. Не упустите возможность стать частью этого увлекательного путешествия! \nВход свободный. \n
URL:https://krbm.ru/afisha/informacionno-kulturnoe-turne-k-115-letiyu-so-dnya-rozhdeniya-v-s-roikkazhdyj-stezhok-istoriya/
END:VEVENT
BEGIN:VEVENT
DTSTART;TZID=Europe/Simferopol:20260421T130000
DTEND;TZID=Europe/Simferopol:20260421T140000
DTSTAMP:20260419T204147
CREATED:20260331T092757Z
LAST-MODIFIED:20260331T092757Z
UID:60289-1776776400-1776780000@krbm.ru
SUMMARY:Информ-досье (ко Дню возрождения реабилитированных народов Крыма)	«Перекрестки памяти»
DESCRIPTION:У нас пройдет информ-досье «Перекрестки памяти»\, приуроченное ко Дню возрождения реабилитированных народов Крыма. Это мероприятие – возможность глубже понять трагические страницы прошлого и героические усилия народов Крыма по сохранению своей культуры\, языка и идентичности. Гости мероприятия пройдут по «перекресткам памяти»\, вспоминая о депортации\, о годах испытаний и о триумфе возвращения на родную землю. В рамках мероприятия предусмотрено знакомство с тематическими изданиями. Приходите\, чтобы узнать больше\, чтобы почувствовать\, чтобы помнить. Ведь только помня прошлое\, мы можем строить достойное будущее. \nВход свободный. \n
URL:https://krbm.ru/afisha/inform-dose-ko-dnyu-vozrozhdeniya-reabilitirovannyx-narodov-krymaperekrestki-pamyati/
END:VEVENT
END:VCALENDAR