BEGIN:VCALENDAR
VERSION:2.0
PRODID:-// - ECPv4.5.13//NONSGML v1.0//EN
CALSCALE:GREGORIAN
METHOD:PUBLISH
X-WR-CALNAME:
X-ORIGINAL-URL:https://krbm.ru
X-WR-CALDESC:Events for 
BEGIN:VEVENT
DTSTART;TZID=Europe/Simferopol:20260418T130000
DTEND;TZID=Europe/Simferopol:20260418T140000
DTSTAMP:20260419T221234
CREATED:20260331T092527Z
LAST-MODIFIED:20260331T092527Z
UID:60277-1776517200-1776520800@krbm.ru
SUMMARY:Участие во Всемирной просветительской акции	«Тотальный диктант»
DESCRIPTION:Наша Молодёжка присоединится к участию во Всемирной просветительской акции «Тотальный диктант». Читатели смогут оценить свой уровень владения русским языком и выявить области\, требующие внимания; вспомнить правила\, которые\, возможно\, давно забылись; стать частью огромного сообщества людей по всему миру\, которые любят и ценят русский язык; провести время с пользой. Наше мероприятие – это не только диктант\, но и возможность встретиться с интересными людьми\, обменяться впечатлениями и получить заряд позитивной энергии.\nНе упустите свой шанс стать частью этого масштабного события! Приходите сами и приводите друзей! Давайте вместе докажем\, что русский язык жив\, красив и требует нашего внимания!\nС нетерпением ждем вас на «Тотальном диктанте» в нашей библиотеке!\nВход свободный. \n
URL:https://krbm.ru/afisha/uchastie-vo-vsemirnoj-prosvetitelskoj-akciitotalnyj-diktant/
END:VEVENT
BEGIN:VEVENT
DTSTART;TZID=Europe/Simferopol:20260418T160000
DTEND;TZID=Europe/Simferopol:20260418T190000
DTSTAMP:20260419T221234
CREATED:20260331T092558Z
LAST-MODIFIED:20260331T092558Z
UID:60279-1776528000-1776538800@krbm.ru
SUMMARY:Участие во Всероссийской просветительской акции 	«Библионочь-2026»
DESCRIPTION:При поддержке Министерства культуры Республики Крым ГБУК РК «Крымская республиканская библиотека для молодёжи» присоединится к участию во Всероссийской акции «Библионочь»\, проходящей под девизом: «Единство народов – сила России!». В рамках мероприятия пройдут занимательные викторины\, игровые конкурсные программы\, а также необычные перформансы и мастер-классы. Гостей мероприятия ожидает возможность открыть в себе способности к самым разным видам искусства: театральному\, декоративно-прикладному\, а также проявить свою эрудицию и интеллектуальный потенциал. Кроме того\, в рамках мероприятия предусмотрен показ интересных комментированных медиа-презентаций\, интерактивные состязания и знакомство с книжными новинками различных жанров. Приходите сами и приводите друзей! Будет невероятно зрелищно и интересно! \nВход свободный. \n
URL:https://krbm.ru/afisha/uchastie-vo-vserossijskoj-prosvetitelskoj-akcii-biblionoch-2026/
END:VEVENT
END:VCALENDAR