BEGIN:VCALENDAR
VERSION:2.0
PRODID:-// - ECPv4.5.13//NONSGML v1.0//EN
CALSCALE:GREGORIAN
METHOD:PUBLISH
X-WR-CALNAME:
X-ORIGINAL-URL:https://krbm.ru
X-WR-CALDESC:Events for 
BEGIN:VEVENT
DTSTART;TZID=Europe/Simferopol:20260409T130000
DTEND;TZID=Europe/Simferopol:20260409T140000
DTSTAMP:20260419T204151
CREATED:20260331T091347Z
LAST-MODIFIED:20260331T091347Z
UID:60258-1775739600-1775743200@krbm.ru
SUMMARY:Мероприятия в рамках проекта «АИФ: актуально\, информативно\, фактографично» Правовой ликбез для молодёжи (ко Дню Конституции Республики Крым)	«Хронограф Конституции»
DESCRIPTION:При поддержке Министерства культуры Республики Крым в рамках проекта «АИФ» пройдёт правовой ликбез для молодёжи\, приуроченный ко Дню Конституции Республики Крым. Гости мероприятия узнают о главных положениях основного закона Крымского полуострова. В рамках мероприятия предусмотрен показ комментированной медиа-презентации и подробное освещение основных правил и норм осуществления гарантированных прав в современных условиях. Гостям мероприятия также будет предложено поучаствовать в интересной правовой викторине\, позволяющей существенно расширить юридический кругозор. Кроме того\, участники смогут задать спикеру интересующие вопросы и ознакомиться с тематической литературой\, представленной в рамках тематической книжной экспозиции. Приходите сами и приводите друзей! Будет очень интересно и актуально!\nВход свободный. \n
URL:https://krbm.ru/afisha/meropriyatiya-v-ramkax-proekta-aif-aktualno-informativno-faktografichno-pravovoj-likbez-dlya-molodyozhi-ko-dnyu-konstitucii-respubliki-krymxronograf-konstitucii/
END:VEVENT
BEGIN:VEVENT
DTSTART;TZID=Europe/Simferopol:20260409T140000
DTEND;TZID=Europe/Simferopol:20260409T150000
DTSTAMP:20260419T204151
CREATED:20260331T091413Z
LAST-MODIFIED:20260331T091413Z
UID:60260-1775743200-1775746800@krbm.ru
SUMMARY:Пасхальная мастерская (к Пасхе)	«Творчество и чтение»
DESCRIPTION:В нашей Молодёжке пройдет пасхальная мастерская «Творчество и чтение»\, приуроченная к Пасхе. В программе мероприятия предусмотрены: увлекательный мастер-класс\, где вы сможете своими руками создать красивые пасхальные сувениры; путешествие в мир пасхальных историй и стихотворений; теплая и дружеская атмосфера\, возможность пообщаться с единомышленниками и зарядиться позитивными эмоциями. Не упустите шанс сделать этот праздник еще ярче и теплее! Ждем вас с нетерпением! \nВход свободный. \n
URL:https://krbm.ru/afisha/pasxalnaya-masterskaya-k-pasxetvorchestvo-i-chtenie/
END:VEVENT
END:VCALENDAR