BEGIN:VCALENDAR
VERSION:2.0
PRODID:-// - ECPv4.5.13//NONSGML v1.0//EN
CALSCALE:GREGORIAN
METHOD:PUBLISH
X-WR-CALNAME:
X-ORIGINAL-URL:https://krbm.ru
X-WR-CALDESC:Events for 
BEGIN:VEVENT
DTSTART;TZID=Europe/Simferopol:20260408T130000
DTEND;TZID=Europe/Simferopol:20260408T140000
DTSTAMP:20260419T221238
CREATED:20260331T091327Z
LAST-MODIFIED:20260331T091327Z
UID:60256-1775653200-1775656800@krbm.ru
SUMMARY:Мероприятия в рамках проекта «Помним. Храним. Дорожим» Исторический калейдоскоп (ко Дню освобождения Симферополя от немецко-фашистских захватчиков)	«Город\, вернувший свою свободу»
DESCRIPTION:В рамках проекта «Помним. Храним. Дорожим» пройдет исторический калейдоскоп «Край родной освобождая»\, приуроченный ко Дню освобождения Симферополя от немецко-фашистских захватчиков. В программе мероприятия: презентация исторических фактов об освобождении Симферополя; просмотр видеоматериалов\, содержащих фото- и видеохронику тех лет; дискуссия о памятниках и мемориалах Симферополя\, а также знакомство с тематической литературой\, представленной на выставке-памяти «Путь к победе». Это мероприятие рассчитано на всех желающих\, кто интересуется историей нашего края\, а также на молодежь\, которой важно знать о героическом прошлом своих предков. Приходите\, чтобы узнать больше о славных страницах истории Симферополя и почтить память тех\, кто отвоевал мирное небо над нашими головами!\nВход свободный. \n
URL:https://krbm.ru/afisha/meropriyatiya-v-ramkax-proekta-pomnim-xranim-dorozhim-istoricheskij-kalejdoskop-ko-dnyu-osvobozhdeniya-simferopolya-ot-nemecko-fashistskix-zaxvatchikovgorod-vernuvshij-svoyu-svobodu/
END:VEVENT
END:VCALENDAR