BEGIN:VCALENDAR
VERSION:2.0
PRODID:-// - ECPv4.5.13//NONSGML v1.0//EN
CALSCALE:GREGORIAN
METHOD:PUBLISH
X-WR-CALNAME:
X-ORIGINAL-URL:https://krbm.ru
X-WR-CALDESC:Events for 
BEGIN:VEVENT
DTSTART;TZID=Europe/Simferopol:20260401T130000
DTEND;TZID=Europe/Simferopol:20260401T140000
DTSTAMP:20260419T204130
CREATED:20260331T091147Z
LAST-MODIFIED:20260331T091147Z
UID:60240-1775048400-1775052000@krbm.ru
SUMMARY:Мероприятия в рамках социального проекта «Современный этикет» Библиотечный лекторий	«Застольный этикет»
DESCRIPTION:В рамках социального проекта «Современный этикет» пройдет библиотечный лекторий «Застольный этикет». Спикер мероприятия\, Ксения Герцен – специалист по деловому этикету и бизнес-коммуникациям\, не только раскроет секреты правильной сервировки и использования столовых приборов\, но и объяснит\, как тонкости застольного этикета влияют на восприятие вашей личности\, способствуют установлению доверия и укреплению связей. Мы обсудим\, как этикет помогает избежать неловких пауз\, грамотно вести беседу и производить впечатление человека\, который ценит детали и уважает окружающих. Это мероприятие будет полезно каждому\, кто стремится к личностному росту\, хочет улучшить свои коммуникативные навыки и чувствовать себя уверенно в любой социальной ситуации. Приходите\, чтобы узнать\, как простые правила могут открыть новые возможности для вашего успеха и благополучия. Кроме того\, предусмотрено знакомство с тематической литературой.\nМы ждём вас!\nВход свободный. \n
URL:https://krbm.ru/afisha/meropriyatiya-v-ramkax-socialnogo-proekta-sovremennyj-etiket-bibliotechnyj-lektorijzastolnyj-etiket/
END:VEVENT
END:VCALENDAR