BEGIN:VCALENDAR
VERSION:2.0
PRODID:-// - ECPv4.5.13//NONSGML v1.0//EN
CALSCALE:GREGORIAN
METHOD:PUBLISH
X-WR-CALNAME:
X-ORIGINAL-URL:https://krbm.ru
X-WR-CALDESC:Events for 
BEGIN:VEVENT
DTSTART;TZID=Europe/Simferopol:20240523T130000
DTEND;TZID=Europe/Simferopol:20240523T140000
DTSTAMP:20260421T074547
CREATED:20240422T111902Z
LAST-MODIFIED:20240422T111902Z
UID:49900-1716469200-1716472800@krbm.ru
SUMMARY:Познавательное путешествие (ко Дню славянской письменности и культуры)	«К истокам Русской письменности»
DESCRIPTION:При поддержке Министерства культуры Республики Крым пройдет познавательное путешествие «К истокам Русской письменности»\, приуроченное ко Дню славянской письменности и культуры. Гости мероприятия узнают об истории создания славянской письменности и убедятся в том\, насколько ярко современный русский язык реализуется в художественном слове. Кроме того\, читатели познакомятся со спецификой написания и оформления старинных книг\, а также применением различных материалов для их изготовления. В рамках мероприятия предусмотрена тематическая видеопрезентация\, рассказывающая не только об истоках\, но и о современном периоде развития славянской культуры. Ждем всех желающих! Будет интересно и познавательно! \nВход свободный. \n
URL:https://krbm.ru/afisha/poznavatelnoe-puteshestvie-ko-dnyu-slavyanskoj-pismennosti-i-kulturyk-istokam-russkoj-pismennosti/
END:VEVENT
END:VCALENDAR